BEGIN:VCALENDAR
VERSION:2.0
PRODID:-//Bullets and Bandaids - ECPv6.15.13//NONSGML v1.0//EN
CALSCALE:GREGORIAN
METHOD:PUBLISH
X-WR-CALNAME:Bullets and Bandaids
X-ORIGINAL-URL:https://bulletsandbandaids.org
X-WR-CALDESC:Events for Bullets and Bandaids
REFRESH-INTERVAL;VALUE=DURATION:PT1H
X-Robots-Tag:noindex
X-PUBLISHED-TTL:PT1H
BEGIN:VTIMEZONE
TZID:America/New_York
BEGIN:DAYLIGHT
TZOFFSETFROM:-0500
TZOFFSETTO:-0400
TZNAME:EDT
DTSTART:20230312T070000
END:DAYLIGHT
BEGIN:STANDARD
TZOFFSETFROM:-0400
TZOFFSETTO:-0500
TZNAME:EST
DTSTART:20231105T060000
END:STANDARD
BEGIN:DAYLIGHT
TZOFFSETFROM:-0500
TZOFFSETTO:-0400
TZNAME:EDT
DTSTART:20240310T070000
END:DAYLIGHT
BEGIN:STANDARD
TZOFFSETFROM:-0400
TZOFFSETTO:-0500
TZNAME:EST
DTSTART:20241103T060000
END:STANDARD
BEGIN:DAYLIGHT
TZOFFSETFROM:-0500
TZOFFSETTO:-0400
TZNAME:EDT
DTSTART:20250309T070000
END:DAYLIGHT
BEGIN:STANDARD
TZOFFSETFROM:-0400
TZOFFSETTO:-0500
TZNAME:EST
DTSTART:20251102T060000
END:STANDARD
END:VTIMEZONE
BEGIN:VEVENT
DTSTART;TZID=America/New_York:20241111T080000
DTEND;TZID=America/New_York:20241222T170000
DTSTAMP:20260421T131502
CREATED:20241121T134657Z
LAST-MODIFIED:20241121T134701Z
UID:5544-1731312000-1734886800@bulletsandbandaids.org
SUMMARY:Exhibition at Columbia's Richland County Library
DESCRIPTION:The Bullets and Bandaids Collection consists of 84 visual and literary artworks by artists and writers from all around the world\, including stories and poems that describe issues of PTSD\, humor\, racial disparities and more. \n\n\n\nCommitted to breaking down barriers between veterans and civilians\, and fostering empathy and understanding of lived experiences\, Bullets and Bandaids aims to amplify voices that often go unheard and to shed light on the diverse experiences of those who have served.  \n\n\n\n\n\n\n\n\n\nA Veteran Storytelling Experience
URL:https://bulletsandbandaids.org/event/exhibition-at-columbias-richland-county-library/
LOCATION:Richland Library Main\, 1431 ASSEMBLY ST.\, Columbia\, South Carolina\, 29201\, United States
END:VEVENT
BEGIN:VEVENT
DTSTART;TZID=America/New_York:20241215T143000
DTEND;TZID=America/New_York:20241215T170000
DTSTAMP:20260421T131502
CREATED:20241121T135622Z
LAST-MODIFIED:20241203T142902Z
UID:5547-1734273000-1734282000@bulletsandbandaids.org
SUMMARY:Vets Town Hall
DESCRIPTION:Bullets and Bandaids\, in association with and presenting Sebastian Junger’s nonprofit Vets Town Hall\, honors the unique journeys of veterans and fosters connections between communities. They believe that every veteran’s story is a powerful testament to resilience\, courage\, and humanity. Leaning on the power of collaboration\, they bring together talented writers and artists to translate these narratives into captivating works of art and you are invited to join them at Richland Library Main. \n\n\n\nJoin us for a poignant\, moving experience that gives veterans a platform to speak their truth about their military experiences without judgment. By sharing these stories\, they speak truth to the power of a culture that separates us. \n\n\n\nBy attending\, you aren’t just participating in a shared human experience. You take an active role in helping facilitate a healing dialogue that will echo throughout our community.  \n\n\n\nCommitted to breaking down barriers between veterans and civilians\, and fostering empathy and understanding of lived experiences\, Bullets and Bandaids aims to amplify voices that often go unheard and to shed light on the diverse experiences of those who have served.  \n\n\n\nJoin Richland Library as we embark on a journey with Bullets and Bandaids and Vets Town Hall to celebrate the resilience\, strength\, and humanity of veterans\, one story\, and one artwork at a time.
URL:https://bulletsandbandaids.org/event/a-veteran-storytelling-experience/
LOCATION:Richland Library Main\, 1431 ASSEMBLY ST.\, Columbia\, South Carolina\, 29201\, United States
END:VEVENT
END:VCALENDAR